BEGIN:VCALENDAR
VERSION:2.0
PRODID:-//RCLCO Real Estate Consulting - ECPv6.15.18//NONSGML v1.0//EN
CALSCALE:GREGORIAN
METHOD:PUBLISH
X-WR-CALNAME:RCLCO Real Estate Consulting
X-ORIGINAL-URL:https://www.rclco.com
X-WR-CALDESC:Events for RCLCO Real Estate Consulting
REFRESH-INTERVAL;VALUE=DURATION:PT1H
X-Robots-Tag:noindex
X-PUBLISHED-TTL:PT1H
BEGIN:VTIMEZONE
TZID:America/Denver
BEGIN:DAYLIGHT
TZOFFSETFROM:-0700
TZOFFSETTO:-0600
TZNAME:MDT
DTSTART:20230312T090000
END:DAYLIGHT
BEGIN:STANDARD
TZOFFSETFROM:-0600
TZOFFSETTO:-0700
TZNAME:MST
DTSTART:20231105T080000
END:STANDARD
BEGIN:DAYLIGHT
TZOFFSETFROM:-0700
TZOFFSETTO:-0600
TZNAME:MDT
DTSTART:20240310T090000
END:DAYLIGHT
BEGIN:STANDARD
TZOFFSETFROM:-0600
TZOFFSETTO:-0700
TZNAME:MST
DTSTART:20241103T080000
END:STANDARD
BEGIN:DAYLIGHT
TZOFFSETFROM:-0700
TZOFFSETTO:-0600
TZNAME:MDT
DTSTART:20250309T090000
END:DAYLIGHT
BEGIN:STANDARD
TZOFFSETFROM:-0600
TZOFFSETTO:-0700
TZNAME:MST
DTSTART:20251102T080000
END:STANDARD
END:VTIMEZONE
BEGIN:VEVENT
DTSTART;TZID=America/Denver:20240416T070000
DTEND;TZID=America/Denver:20240416T114500
DTSTAMP:20260419T181838
CREATED:20240621T163733Z
LAST-MODIFIED:20240621T163733Z
UID:132287-1713250800-1713267900@www.rclco.com
SUMMARY:CREJ 2024 Development\, Construction & Design Conference and Expo
DESCRIPTION:Speaker: Dana Schoewe Principal\, RCLCO \nRCLCO Principal Dana Schoewe will be moderating a panel: “Development Opportunities: Your Five Year Plan for Success” at the Colorado Real Estate Journal’s 2024 Development\, Construction & Design Conference and Expo in Denver on April 16th.
URL:https://www.rclco.com/event/crej-2024-development-construction-design-conference-and-expo/
LOCATION:the calble center\, 2000 Buchtel Blvd. S.\, Denver\, CO\, 80210\, United States
CATEGORIES:Conference,Moderator
ATTACH;FMTTYPE=image/png:https://www.rclco.com/wp-content/uploads/2024/06/download.png
END:VEVENT
END:VCALENDAR