BEGIN:VCALENDAR
VERSION:2.0
PRODID:-//RCLCO Real Estate Consulting - ECPv6.15.18//NONSGML v1.0//EN
CALSCALE:GREGORIAN
METHOD:PUBLISH
X-WR-CALNAME:RCLCO Real Estate Consulting
X-ORIGINAL-URL:https://www.rclco.com
X-WR-CALDESC:Events for RCLCO Real Estate Consulting
REFRESH-INTERVAL;VALUE=DURATION:PT1H
X-Robots-Tag:noindex
X-PUBLISHED-TTL:PT1H
BEGIN:VTIMEZONE
TZID:America/Los_Angeles
BEGIN:DAYLIGHT
TZOFFSETFROM:-0800
TZOFFSETTO:-0700
TZNAME:PDT
DTSTART:20230312T100000
END:DAYLIGHT
BEGIN:STANDARD
TZOFFSETFROM:-0700
TZOFFSETTO:-0800
TZNAME:PST
DTSTART:20231105T090000
END:STANDARD
BEGIN:DAYLIGHT
TZOFFSETFROM:-0800
TZOFFSETTO:-0700
TZNAME:PDT
DTSTART:20240310T100000
END:DAYLIGHT
BEGIN:STANDARD
TZOFFSETFROM:-0700
TZOFFSETTO:-0800
TZNAME:PST
DTSTART:20241103T090000
END:STANDARD
BEGIN:DAYLIGHT
TZOFFSETFROM:-0800
TZOFFSETTO:-0700
TZNAME:PDT
DTSTART:20250309T100000
END:DAYLIGHT
BEGIN:STANDARD
TZOFFSETFROM:-0700
TZOFFSETTO:-0800
TZNAME:PST
DTSTART:20251102T090000
END:STANDARD
END:VTIMEZONE
BEGIN:VEVENT
DTSTART;TZID=America/Los_Angeles:20240813T100000
DTEND;TZID=America/Los_Angeles:20240813T113000
DTSTAMP:20260419T110400
CREATED:20240827T200029Z
LAST-MODIFIED:20240827T203913Z
UID:133475-1723543200-1723548600@www.rclco.com
SUMMARY:Webinar: IREI.Q Quarterly Fundraising Report Review
DESCRIPTION:Join Institutional Real Estate\, Inc. for the next of their complimentary webinar series\, “IREI.Q Quarterly Fundraising Report Review”. Content will feature data from their proprietary IREI.Q database. Participants\, including RFA Managing Director Andrew Janko\, will discuss their perspectives on real estate equity and debt fundraising and capital-flows trends for second quarter 2024.\nModerator:\nLoretta Clodfelter\nEditorial Director\nInstitutional Real Estate\, Inc. \nSpeakers:\nPaul Blank\nPresident & COO\nKayne Anderson \nAndrew Janko\nManaging Director\nRCLCO Fund Advisors
URL:https://www.rclco.com/event/webinar-irei-q-quarterly-fundraising-report-review/
LOCATION:Webinar
CATEGORIES:Panelist,Webinar
ATTACH;FMTTYPE=image/jpeg:https://www.rclco.com/wp-content/uploads/2024/08/logo-irei-institutional-real-estate-inc-e1758121276515.jpg
END:VEVENT
END:VCALENDAR