BEGIN:VCALENDAR
VERSION:2.0
PRODID:-//RCLCO Real Estate Consulting - ECPv6.15.18//NONSGML v1.0//EN
CALSCALE:GREGORIAN
METHOD:PUBLISH
X-ORIGINAL-URL:https://www.rclco.com
X-WR-CALDESC:Events for RCLCO Real Estate Consulting
REFRESH-INTERVAL;VALUE=DURATION:PT1H
X-Robots-Tag:noindex
X-PUBLISHED-TTL:PT1H
BEGIN:VTIMEZONE
TZID:America/Detroit
BEGIN:DAYLIGHT
TZOFFSETFROM:-0500
TZOFFSETTO:-0400
TZNAME:EDT
DTSTART:20230312T070000
END:DAYLIGHT
BEGIN:STANDARD
TZOFFSETFROM:-0400
TZOFFSETTO:-0500
TZNAME:EST
DTSTART:20231105T060000
END:STANDARD
BEGIN:DAYLIGHT
TZOFFSETFROM:-0500
TZOFFSETTO:-0400
TZNAME:EDT
DTSTART:20240310T070000
END:DAYLIGHT
BEGIN:STANDARD
TZOFFSETFROM:-0400
TZOFFSETTO:-0500
TZNAME:EST
DTSTART:20241103T060000
END:STANDARD
BEGIN:DAYLIGHT
TZOFFSETFROM:-0500
TZOFFSETTO:-0400
TZNAME:EDT
DTSTART:20250309T070000
END:DAYLIGHT
BEGIN:STANDARD
TZOFFSETFROM:-0400
TZOFFSETTO:-0500
TZNAME:EST
DTSTART:20251102T060000
END:STANDARD
END:VTIMEZONE
BEGIN:VEVENT
DTSTART;TZID=America/Detroit:20240611T170000
DTEND;TZID=America/Detroit:20240611T190000
DTSTAMP:20260422T054528
CREATED:20240621T185403Z
LAST-MODIFIED:20240621T185403Z
UID:132316-1718125200-1718132400@www.rclco.com
SUMMARY:ULI Washington Women's Leadership Initiative: Telling Your Story
DESCRIPTION:WLI: Telling your Story\n\nJoin the ULI Washington Women’s Leadership Initiative and Circles program participants for a discussion on ‘Telling Your Story.’ Learn career insights\, strategies for advancement\, and ways to navigate the current real estate environment from Ellen Klasson (RCLCO)\, Kelly Nagel (Edens)\, and Maria Thompson (Hoffman & Associates). The discussion will be moderated by Roberta “Bobby” Bosfield (Rawson Square CRE). Following the discussion\, a happy hour provides an opportunity to mingle with current and prospective Circles members and learn about this valuable professional development opportunity.
URL:https://www.rclco.com/event/uli-washington-womens-leadership-initiative-telling-your-story/
LOCATION:City Ridge\, 30 Ridge SQ NW\, Washington\, DC\, 20016\, United States
CATEGORIES:Courses & Workshops,Panelist
ATTACH;FMTTYPE=image/webp:https://www.rclco.com/wp-content/uploads/2024/04/logo-uli-V0.webp
END:VEVENT
END:VCALENDAR