BEGIN:VCALENDAR
VERSION:2.0
PRODID:-//RCLCO Real Estate Consulting - ECPv6.15.18//NONSGML v1.0//EN
CALSCALE:GREGORIAN
METHOD:PUBLISH
X-WR-CALNAME:RCLCO Real Estate Consulting
X-ORIGINAL-URL:https://www.rclco.com
X-WR-CALDESC:Events for RCLCO Real Estate Consulting
REFRESH-INTERVAL;VALUE=DURATION:PT1H
X-Robots-Tag:noindex
X-PUBLISHED-TTL:PT1H
BEGIN:VTIMEZONE
TZID:America/New_York
BEGIN:DAYLIGHT
TZOFFSETFROM:-0500
TZOFFSETTO:-0400
TZNAME:EDT
DTSTART:20230312T070000
END:DAYLIGHT
BEGIN:STANDARD
TZOFFSETFROM:-0400
TZOFFSETTO:-0500
TZNAME:EST
DTSTART:20231105T060000
END:STANDARD
BEGIN:DAYLIGHT
TZOFFSETFROM:-0500
TZOFFSETTO:-0400
TZNAME:EDT
DTSTART:20240310T070000
END:DAYLIGHT
BEGIN:STANDARD
TZOFFSETFROM:-0400
TZOFFSETTO:-0500
TZNAME:EST
DTSTART:20241103T060000
END:STANDARD
BEGIN:DAYLIGHT
TZOFFSETFROM:-0500
TZOFFSETTO:-0400
TZNAME:EDT
DTSTART:20250309T070000
END:DAYLIGHT
BEGIN:STANDARD
TZOFFSETFROM:-0400
TZOFFSETTO:-0500
TZNAME:EST
DTSTART:20251102T060000
END:STANDARD
END:VTIMEZONE
BEGIN:VEVENT
DTSTART;VALUE=DATE:20241204
DTEND;VALUE=DATE:20241205
DTSTAMP:20260419T214655
CREATED:20241030T173344Z
LAST-MODIFIED:20241125T195832Z
UID:135883-1733270400-1733356799@www.rclco.com
SUMMARY:Real Estate Global Forum: The Rise and Rise of Single-Family Rental and Build-To-Rent
DESCRIPTION:Panelist: Cyndi Thomas\, Managing Director\, RFA \nFollowing the pandemic\, the single-family rental market has seen a remarkable resurgence\, reminiscent of the post-Great Financial Crisis boom. As SFR and build-to-rent communities now comprise over 30% of the U.S. rental market\, how can investors navigate this evolving landscape?
URL:https://www.rclco.com/event/real-estate-global-forum-the-rise-and-rise-of-single-family-rental-and-build-to-rent/
LOCATION:225 Liberty Street\, 225 Liberty Street\, New York\, NY
CATEGORIES:Conference,Panelist
ATTACH;FMTTYPE=image/png:https://www.rclco.com/wp-content/uploads/2024/10/1556628137-png.webp
END:VEVENT
BEGIN:VEVENT
DTSTART;TZID=America/New_York:20241205T080000
DTEND;TZID=America/New_York:20241205T110000
DTSTAMP:20260419T214655
CREATED:20241121T223523Z
LAST-MODIFIED:20241121T223523Z
UID:136121-1733385600-1733396400@www.rclco.com
SUMMARY:ULI Washington: Achieving Affordability - How the DMV is Promoting Affordable Housing
DESCRIPTION:Panelist: Philip Carney\, Principal\, RCLCO \nEven those outside the real estate world have likely heard of an affordable housing crisis in the Washington\, D.C. area. Absent governmental reforms and policy changes\, basic economics suggest that this problem will persist as rents rise and housing supply struggles to keep up. This panel will explore how policy reforms\, including adjustments to programs like the Emergency Rental Assistance Program (ERAP)\, can support the production and maintenance of long-term affordable housing in the DMV. Similarly\, this event will explore other policies that have either succeeded or failed\, and what is needed in the current market to encourage more affordable housing options. \n\nWhether you are a developer\, housing advocate\, lender\, or policymaker\, this event offers an opportunity to understand the issues and possible solutions\, and engage with others who are helping to shape policies that protect affordable housing for all.
URL:https://www.rclco.com/event/uli-washington-achieving-affordability-how-the-dmv-is-promoting-affordable-housing/
LOCATION:ULI Headquarters\, 2001 L Street NW Suite 200\, Washington\, DC\, 20036\, United States
CATEGORIES:Panelist
ATTACH;FMTTYPE=image/webp:https://www.rclco.com/wp-content/uploads/2024/04/logo-uli-V0.webp
END:VEVENT
BEGIN:VEVENT
DTSTART;TZID=America/New_York:20241209T173000
DTEND;TZID=America/New_York:20241209T203000
DTSTAMP:20260419T214655
CREATED:20241121T222618Z
LAST-MODIFIED:20241121T222618Z
UID:136117-1733765400-1733776200@www.rclco.com
SUMMARY:ULI Washington: More Than The Score - DC's Sports Venues and Their Role in the City's Growth
DESCRIPTION:Moderator: Erin Talkington\, Managing Director\, RCLCO \nJoin ULI Washington for a dynamic conversation between Erin Talkington of RCLCO\, Mark Simpson of the Downtown DC BID\, with additional panelists to be announced soon for a conversation about the role DC’s sports venues have played in its recent growth and what the future looks like for Capital One Arena and downtown.
URL:https://www.rclco.com/event/uli-washington-more-than-the-score-dcs-sports-venues-and-their-role-in-the-citys-growth/
LOCATION:District E\, 701 7th St NW\, Washington\, DC\, 20001\, United States
CATEGORIES:Moderator,Panelist,Speaker
ATTACH;FMTTYPE=image/webp:https://www.rclco.com/wp-content/uploads/2024/04/logo-uli-V0.webp
END:VEVENT
END:VCALENDAR