BEGIN:VCALENDAR
VERSION:2.0
PRODID:-//RCLCO Real Estate Consulting - ECPv6.15.18//NONSGML v1.0//EN
CALSCALE:GREGORIAN
METHOD:PUBLISH
X-WR-CALNAME:RCLCO Real Estate Consulting
X-ORIGINAL-URL:https://www.rclco.com
X-WR-CALDESC:Events for RCLCO Real Estate Consulting
REFRESH-INTERVAL;VALUE=DURATION:PT1H
X-Robots-Tag:noindex
X-PUBLISHED-TTL:PT1H
BEGIN:VTIMEZONE
TZID:America/Denver
BEGIN:DAYLIGHT
TZOFFSETFROM:-0700
TZOFFSETTO:-0600
TZNAME:MDT
DTSTART:20240310T090000
END:DAYLIGHT
BEGIN:STANDARD
TZOFFSETFROM:-0600
TZOFFSETTO:-0700
TZNAME:MST
DTSTART:20241103T080000
END:STANDARD
BEGIN:DAYLIGHT
TZOFFSETFROM:-0700
TZOFFSETTO:-0600
TZNAME:MDT
DTSTART:20250309T090000
END:DAYLIGHT
BEGIN:STANDARD
TZOFFSETFROM:-0600
TZOFFSETTO:-0700
TZNAME:MST
DTSTART:20251102T080000
END:STANDARD
BEGIN:DAYLIGHT
TZOFFSETFROM:-0700
TZOFFSETTO:-0600
TZNAME:MDT
DTSTART:20260308T090000
END:DAYLIGHT
BEGIN:STANDARD
TZOFFSETFROM:-0600
TZOFFSETTO:-0700
TZNAME:MST
DTSTART:20261101T080000
END:STANDARD
END:VTIMEZONE
BEGIN:VEVENT
DTSTART;TZID=America/Denver:20250512T143000
DTEND;TZID=America/Denver:20250512T153000
DTSTAMP:20260419T145943
CREATED:20250317T195441Z
LAST-MODIFIED:20250317T195612Z
UID:136666-1747060200-1747063800@www.rclco.com
SUMMARY:ULI Spring Meeting: Economic Dynamics and Investments Transforming Mountain Resort Communities
DESCRIPTION:Panelist: Adam Ducker\, CEO\, RCLCO \nThe state of mountain resort communities is being impacted by changing demographics\, aging infrastructure\, housing shortages\, climate change\, and expanding year-round tourism to drive economic growth. The public sector (primarily municipalities)\, developers\, and resort owners are investing hundreds of millions of dollars. The investments aim to modernize\, diversify\, and create resilient resort communities. The desired outcomes and the expected returns on investment are strategic to achieve success today and be relevant for the next generation.
URL:https://www.rclco.com/event/uli-spring-meeting-economic-dynamics-and-investments-transforming-mountain-resort-communities/
LOCATION:DC
CATEGORIES:Panelist
ATTACH;FMTTYPE=image/webp:https://www.rclco.com/wp-content/uploads/2024/04/logo-uli-V0.webp
END:VEVENT
END:VCALENDAR