BEGIN:VCALENDAR
VERSION:2.0
PRODID:-//RCLCO Real Estate Consulting - ECPv6.15.18//NONSGML v1.0//EN
CALSCALE:GREGORIAN
METHOD:PUBLISH
X-ORIGINAL-URL:https://www.rclco.com
X-WR-CALDESC:Events for RCLCO Real Estate Consulting
REFRESH-INTERVAL;VALUE=DURATION:PT1H
X-Robots-Tag:noindex
X-PUBLISHED-TTL:PT1H
BEGIN:VTIMEZONE
TZID:America/Los_Angeles
BEGIN:DAYLIGHT
TZOFFSETFROM:-0800
TZOFFSETTO:-0700
TZNAME:PDT
DTSTART:20230312T100000
END:DAYLIGHT
BEGIN:STANDARD
TZOFFSETFROM:-0700
TZOFFSETTO:-0800
TZNAME:PST
DTSTART:20231105T090000
END:STANDARD
BEGIN:DAYLIGHT
TZOFFSETFROM:-0800
TZOFFSETTO:-0700
TZNAME:PDT
DTSTART:20240310T100000
END:DAYLIGHT
BEGIN:STANDARD
TZOFFSETFROM:-0700
TZOFFSETTO:-0800
TZNAME:PST
DTSTART:20241103T090000
END:STANDARD
BEGIN:DAYLIGHT
TZOFFSETFROM:-0800
TZOFFSETTO:-0700
TZNAME:PDT
DTSTART:20250309T100000
END:DAYLIGHT
BEGIN:STANDARD
TZOFFSETFROM:-0700
TZOFFSETTO:-0800
TZNAME:PST
DTSTART:20251102T090000
END:STANDARD
END:VTIMEZONE
BEGIN:VTIMEZONE
TZID:America/Toronto
BEGIN:DAYLIGHT
TZOFFSETFROM:-0500
TZOFFSETTO:-0400
TZNAME:EDT
DTSTART:20230312T070000
END:DAYLIGHT
BEGIN:STANDARD
TZOFFSETFROM:-0400
TZOFFSETTO:-0500
TZNAME:EST
DTSTART:20231105T060000
END:STANDARD
BEGIN:DAYLIGHT
TZOFFSETFROM:-0500
TZOFFSETTO:-0400
TZNAME:EDT
DTSTART:20240310T070000
END:DAYLIGHT
BEGIN:STANDARD
TZOFFSETFROM:-0400
TZOFFSETTO:-0500
TZNAME:EST
DTSTART:20241103T060000
END:STANDARD
BEGIN:DAYLIGHT
TZOFFSETFROM:-0500
TZOFFSETTO:-0400
TZNAME:EDT
DTSTART:20250309T070000
END:DAYLIGHT
BEGIN:STANDARD
TZOFFSETFROM:-0400
TZOFFSETTO:-0500
TZNAME:EST
DTSTART:20251102T060000
END:STANDARD
END:VTIMEZONE
BEGIN:VEVENT
DTSTART;TZID=America/Los_Angeles:20241119T121500
DTEND;TZID=America/Los_Angeles:20241119T130000
DTSTAMP:20260423T031558
CREATED:20241031T120407Z
LAST-MODIFIED:20241031T144538Z
UID:135635-1732018500-1732021200@www.rclco.com
SUMMARY:RCLCO Webinar: Smoother Sailing Ahead: Trends in Compensation and Human Capital
DESCRIPTION:Speakers: Adam Ostler\, Principal\, RCLCO; Ellen Klasson\, Managing Director\, RCLCO; Lucy Bertsch\, Principal\, RCLCO \nRegister Now!Sign up to join us Tuesday\, November 19th\, at 12:15 PM Pacific/3:15 PM Eastern – Join senior RCLCO consultants and leadership on Tuesday\, November 19th\, at 12:15 PM Pacific/3:15 PM Eastern as they share the latest trends in the current economic and capital markets as well as well timely\, engaging topics as part of our ongoing webinar series. \nDuring this November 2024 briefing will have RCLCO senior leadership discuss findings from the 2024 Real Estate Compensation & Benefits Survey\, including projections for year-end compensation adjustment\, and how companies are strategically working to attract and retain talent through short- and long-term pay practices as market conditions improve. We will discuss how firms are adapting their strategies in reaction to a market shift\, and round out the session with some live Q&A. \nCan’t make the event? Register to receive a recording of the webinar.
URL:https://www.rclco.com/event/rclco-webinar-smoother-sailing-ahead-trends-in-compensation-and-human-capital/
LOCATION:Webinar
CATEGORIES:RCLCO Hosted Events,Webinar
ATTACH;FMTTYPE=image/jpeg:https://www.rclco.com/wp-content/uploads/2023/07/Webinar-emailblast-1.jpg
ORGANIZER;CN="RCLCO Real Estate Consulting":MAILTO:jboren@rclco.com
END:VEVENT
BEGIN:VEVENT
DTSTART;TZID=America/Toronto:20241121T120000
DTEND;TZID=America/Toronto:20241121T130000
DTSTAMP:20260423T031558
CREATED:20241113T150915Z
LAST-MODIFIED:20241113T150915Z
UID:136033-1732190400-1732194000@www.rclco.com
SUMMARY:ULI Toronto Webinar: Broadening the Affordable Housing Discussion\, Lessons From The U.S.A
DESCRIPTION:Panelist: Adam Ducker\, CEO \nWhile Canada once relied on social and non-profit housing models for affordability\, the U.S. has leveraged market-driven approaches and public finance tools to engage the private sector. In Canada’s current fiscal climate\, can we draw valuable lessons from the U.S. to address our own affordable housing crisis? \nLed by the ULI Terwilliger Center for Housing\, this session will share the affordable housing landscape in the US\, including a market overview on the latest trends and affordability challenges facing the US\, and perspectives of three American developers who will share their company’s strategy for building and preserving affordable mixed-income housing.
URL:https://www.rclco.com/event/uli-toronto-webinar-broadening-the-affordable-housing-discussion-lessons-from-the-u-s-a/
LOCATION:Webinar
CATEGORIES:Speaker,Webinar
ATTACH;FMTTYPE=image/webp:https://www.rclco.com/wp-content/uploads/2024/04/logo-uli-V0.webp
END:VEVENT
END:VCALENDAR